BEGIN:VCALENDAR
VERSION:2.0
PRODID:-//Jonge Democraten - ECPv5.8.0//NONSGML v1.0//EN
CALSCALE:GREGORIAN
METHOD:PUBLISH
X-WR-CALNAME:Jonge Democraten
X-ORIGINAL-URL:https://www.jongedemocraten.nl
X-WR-CALDESC:Evenementen voor Jonge Democraten
BEGIN:VTIMEZONE
TZID:Europe/Amsterdam
BEGIN:DAYLIGHT
TZOFFSETFROM:+0100
TZOFFSETTO:+0200
TZNAME:CEST
DTSTART:20260329T010000
END:DAYLIGHT
BEGIN:STANDARD
TZOFFSETFROM:+0200
TZOFFSETTO:+0100
TZNAME:CET
DTSTART:20261025T010000
END:STANDARD
END:VTIMEZONE
BEGIN:VEVENT
DTSTART;TZID=Europe/Amsterdam:20260519T200000
DTEND;TZID=Europe/Amsterdam:20260519T220000
DTSTAMP:20260424T225030
CREATED:20260424T161145Z
LAST-MODIFIED:20260424T161145Z
UID:56110-1779220800-1779228000@www.jongedemocraten.nl
SUMMARY:JD-UTR: Algemene leden vegadering
DESCRIPTION:JD-UTR: Algemene leden vegadering \n\n\nIn het kort\n\nDatum19 / 05 / 2026 \nTijd20:00 – 22:00 \nLocatiePodium Oost\, Utrecht \n\nBeschrijving\nUtrecht organiseert: Algemene leden vegadering \nBij deze vergadering behandelen we ingediende moties om deze later in te dienen op het landelijke congres van de JD.
URL:https://www.jongedemocraten.nl/evenement/jd-utr-algemene-leden-vegadering-3/
CATEGORIES:Utrecht
END:VEVENT
END:VCALENDAR