BEGIN:VCALENDAR
VERSION:2.0
PRODID:-//Jonge Democraten - ECPv5.8.0//NONSGML v1.0//EN
CALSCALE:GREGORIAN
METHOD:PUBLISH
X-WR-CALNAME:Jonge Democraten
X-ORIGINAL-URL:https://www.jongedemocraten.nl
X-WR-CALDESC:Evenementen voor Jonge Democraten
BEGIN:VTIMEZONE
TZID:Europe/Amsterdam
BEGIN:DAYLIGHT
TZOFFSETFROM:+0100
TZOFFSETTO:+0200
TZNAME:CEST
DTSTART:20260329T010000
END:DAYLIGHT
BEGIN:STANDARD
TZOFFSETFROM:+0200
TZOFFSETTO:+0100
TZNAME:CET
DTSTART:20261025T010000
END:STANDARD
END:VTIMEZONE
BEGIN:VEVENT
DTSTART;TZID=Europe/Amsterdam:20260504T190000
DTEND;TZID=Europe/Amsterdam:20260504T210000
DTSTAMP:20260424T224328
CREATED:20260424T161139Z
LAST-MODIFIED:20260424T161139Z
UID:56109-1777921200-1777928400@www.jongedemocraten.nl
SUMMARY:JD-UTR: Dodenherdenking
DESCRIPTION:JD-UTR: Dodenherdenking \n\n\nIn het kort\n\nDatum04 / 05 / 2026 \nTijd19:00 – 21:00 \nLocatieDomplein\, Utrecht \n\nBeschrijving\nUtrecht organiseert: Dodenherdenking \nIeder herdenken we de oorlog slachtoffers op 4 mei met 2 minuten stilte. Dit jaar gaan we de herdenking op het domplein bijwonen als JD Utrecht. Hopelijk zien we jullie daar.
URL:https://www.jongedemocraten.nl/evenement/jd-utr-dodenherdenking-3/
CATEGORIES:Utrecht
END:VEVENT
END:VCALENDAR