BEGIN:VCALENDAR
VERSION:2.0
PRODID:-//Jonge Democraten - ECPv5.8.0//NONSGML v1.0//EN
CALSCALE:GREGORIAN
METHOD:PUBLISH
X-WR-CALNAME:Jonge Democraten
X-ORIGINAL-URL:https://www.jongedemocraten.nl
X-WR-CALDESC:Evenementen voor Jonge Democraten
BEGIN:VTIMEZONE
TZID:Europe/Amsterdam
BEGIN:DAYLIGHT
TZOFFSETFROM:+0100
TZOFFSETTO:+0200
TZNAME:CEST
DTSTART:20260329T010000
END:DAYLIGHT
BEGIN:STANDARD
TZOFFSETFROM:+0200
TZOFFSETTO:+0100
TZNAME:CET
DTSTART:20261025T010000
END:STANDARD
END:VTIMEZONE
BEGIN:VEVENT
DTSTART;TZID=Europe/Amsterdam:20260511T190000
DTEND;TZID=Europe/Amsterdam:20260511T210000
DTSTAMP:20260424T224645
CREATED:20260424T161150Z
LAST-MODIFIED:20260424T161150Z
UID:56111-1778526000-1778533200@www.jongedemocraten.nl
SUMMARY:JD-UTR: Informatie en discussieavond met JD\, CDJA\, JOVD \, CNV Jongeren en FNV Young & United
DESCRIPTION:JD-UTR: Informatie en discussieavond met JD\, CDJA\, JOVD \, CNV Jongeren en FNV Young & United \n\n\nIn het kort\n\nDatum11 / 05 / 2026 \nTijd19:00 – 21:00 \nLocatieFNV Utrecht\, Hertogswetering 159 \n\nBeschrijving\nUtrecht organiseert: Informatie en discussieavond met JD\, CDJA\, JOVD \, CNV Jongeren en FNV Young & United \nEen informatie- en discussieavond met de politieke jongerenorganisaties JD\, CDJA en JOVD en de jongerenvakbonden CNV Jongeren en FNV Young & United over sociale zekerheid. Tijdens de avond vertelt een expert eerst over hoe het sociale zekerheidssysteem in elkaar zit\, presenteren de jongerenvakbonden vervolgens hoe jongeren gebruik maken van sociale zekerheid en de gevolgen van de plannen in het coalitieakkoord voor jongeren. De tweede helft van de avond wordt gewijd aan een discussie aan de hand van een aantal stellingen.
URL:https://www.jongedemocraten.nl/evenement/jd-utr-informatie-en-discussieavond-met-jd-cdja-jovd-cnv-jongeren-en-fnv-young-united-3/
CATEGORIES:Utrecht
END:VEVENT
END:VCALENDAR