BEGIN:VCALENDAR
VERSION:2.0
PRODID:-//Jonge Democraten - ECPv5.8.0//NONSGML v1.0//EN
CALSCALE:GREGORIAN
METHOD:PUBLISH
X-WR-CALNAME:Jonge Democraten
X-ORIGINAL-URL:https://www.jongedemocraten.nl
X-WR-CALDESC:Evenementen voor Jonge Democraten
BEGIN:VTIMEZONE
TZID:Europe/Amsterdam
BEGIN:DAYLIGHT
TZOFFSETFROM:+0100
TZOFFSETTO:+0200
TZNAME:CEST
DTSTART:20220327T010000
END:DAYLIGHT
BEGIN:STANDARD
TZOFFSETFROM:+0200
TZOFFSETTO:+0100
TZNAME:CET
DTSTART:20221030T010000
END:STANDARD
END:VTIMEZONE
BEGIN:VEVENT
DTSTART;TZID=Europe/Amsterdam:20221207T200000
DTEND;TZID=Europe/Amsterdam:20221207T220000
DTSTAMP:20260423T230715
CREATED:20221201T070750Z
LAST-MODIFIED:20221201T070752Z
UID:32440-1670443200-1670450400@www.jongedemocraten.nl
SUMMARY:JDF: Motie schrijfavond
DESCRIPTION:Op deze avond gaan we moties schrijven die je kan indienen voor het komende AAV of het aankomende wintercongres.
URL:https://www.jongedemocraten.nl/evenement/jdf-motie-schrijfavond/
END:VEVENT
END:VCALENDAR