BEGIN:VCALENDAR
VERSION:2.0
PRODID:-//Jonge Democraten - ECPv5.8.0//NONSGML v1.0//EN
CALSCALE:GREGORIAN
METHOD:PUBLISH
X-WR-CALNAME:Jonge Democraten
X-ORIGINAL-URL:https://www.jongedemocraten.nl
X-WR-CALDESC:Evenementen voor Jonge Democraten
BEGIN:VTIMEZONE
TZID:Europe/Amsterdam
BEGIN:DAYLIGHT
TZOFFSETFROM:+0100
TZOFFSETTO:+0200
TZNAME:CEST
DTSTART:20220327T010000
END:DAYLIGHT
BEGIN:STANDARD
TZOFFSETFROM:+0200
TZOFFSETTO:+0100
TZNAME:CET
DTSTART:20221030T010000
END:STANDARD
END:VTIMEZONE
BEGIN:VEVENT
DTSTART;TZID=Europe/Amsterdam:20220914T193000
DTEND;TZID=Europe/Amsterdam:20220914T220000
DTSTAMP:20260421T103344
CREATED:20220906T143653Z
LAST-MODIFIED:20220910T100340Z
UID:31008-1663183800-1663192800@www.jongedemocraten.nl
SUMMARY:Training Sociaal-liberalisme
DESCRIPTION:D66 en de JD scharen zich vaak onder het ‘sociaal-liberalisme’. Maar vragen als wat deze ideologie nou precies inhoudt\, hoe je deze concreet kan toepassen\, hoe deze is ontstaan\, hoe het in verhouding staat tot andere vormen van liberalisme en hoe jij jezelf verhoudt tot deze politieke stroming zijn daarmee niet meteen duidelijk! Wil jij wat dieper graven om meer te leren over deze vragen rondom onze ideologische wortels? Kom naar onze activiteit! \n\n\n\nDe activiteit vindt plaats in the Trafalgar pub in Eindhoven om 19:30\, inloop is vanaf 19:15.
URL:https://www.jongedemocraten.nl/evenement/training-sociaal-liberalisme/
LOCATION:The Trafalgar Pub in Eindhoven\, Dommelstraat 21\, Eindhoven\, 5611 CJ
CATEGORIES:Brabant
ATTACH;FMTTYPE=image/png:https://www.jongedemocraten.nl/wp-content/uploads/1.png
END:VEVENT
END:VCALENDAR