BEGIN:VCALENDAR
VERSION:2.0
PRODID:-//Jonge Democraten - ECPv5.8.0//NONSGML v1.0//EN
CALSCALE:GREGORIAN
METHOD:PUBLISH
X-WR-CALNAME:Jonge Democraten
X-ORIGINAL-URL:https://www.jongedemocraten.nl
X-WR-CALDESC:Events for Jonge Democraten
BEGIN:VTIMEZONE
TZID:Europe/Helsinki
BEGIN:DAYLIGHT
TZOFFSETFROM:+0200
TZOFFSETTO:+0300
TZNAME:EEST
DTSTART:20240331T010000
END:DAYLIGHT
BEGIN:STANDARD
TZOFFSETFROM:+0300
TZOFFSETTO:+0200
TZNAME:EET
DTSTART:20241027T010000
END:STANDARD
END:VTIMEZONE
BEGIN:VEVENT
DTSTART;TZID=Europe/Helsinki:20241126T200000
DTEND;TZID=Europe/Helsinki:20241126T220000
DTSTAMP:20260420T060549
CREATED:20241117T141516Z
LAST-MODIFIED:20241117T141517Z
UID:44029-1732651200-1732658400@www.jongedemocraten.nl
SUMMARY:JDU | MBO & vijfpuntenplan 2.0
DESCRIPTION:In het kort\n\n\n\n\n\n\n\nPim van Dam.\n\n\n\n \n\n\n\n \n\n\n\n\n\n\n\n\n\nMBO & vijfpuntenplan 2.0\n\n\n\nMet de werkgroep voorzitter MBO van D66 Pim van Dam.\n\n\n\nMBO\, de ruggengraat van onze maatschappij. Zonder MBO geen bakker\, loodgieter of verpleegkundige. Er is een groot tekort aan vakmensen\, en toch wordt het MBO nog steeds niet altijd als gelijkwaardig gezien. Wat zijn de grote uitdagingen en problemen binnen het MBO? En misschien net zo belangrijk: waar willen we heen? \n\n\n\nDe landelijke MBO werkgroep van D66 is hiermee aan de slag gegaan en heeft een vijfpuntenplan opgesteld om de uitdagingen binnen het MBO aan te pakken. Dit alles en meer bespreken we met Pim van Dam: JD’er\, docent en voorzitter van de landelijke MBO werkgroep. \n\n\n\n\n\n\n\n\n\n🕗 Tijd: 20:00 – 22:00 \n\n\n\n📌Locatie: Milieu centrum (Oudegracht 60) \n\n\n\n\n\nOok als je nog geen officieel lid bent van de JD ben je alsnog van harte welkom. 🙌Voor vragen over dit evenement kun je terecht bij onze secretaris:✉️ secretaris.utrecht@jongedemocraten.nl \n\n\n\n\n\n\n\nFacebook\n\nTwitter\n\nE-mail\n\nInstagram\n\nLinkedIn
URL:https://www.jongedemocraten.nl/evenement/jdu-mbo-vijfpuntenplan-2-0/
LOCATION:Milieu centrum Utrecht\, Oudegracht 60\, Utrecht\, Utrecht\, 3511AS\, Nederland
CATEGORIES:Utrecht
ATTACH;FMTTYPE=image/png:https://www.jongedemocraten.nl/wp-content/uploads/MBO-Activiteit-1.png
END:VEVENT
END:VCALENDAR