BEGIN:VCALENDAR
VERSION:2.0
PRODID:-//Jonge Democraten - ECPv5.8.0//NONSGML v1.0//EN
CALSCALE:GREGORIAN
METHOD:PUBLISH
X-WR-CALNAME:Jonge Democraten
X-ORIGINAL-URL:https://www.jongedemocraten.nl
X-WR-CALDESC:Events for Jonge Democraten
BEGIN:VTIMEZONE
TZID:Europe/Helsinki
BEGIN:DAYLIGHT
TZOFFSETFROM:+0200
TZOFFSETTO:+0300
TZNAME:EEST
DTSTART:20240331T010000
END:DAYLIGHT
BEGIN:STANDARD
TZOFFSETFROM:+0300
TZOFFSETTO:+0200
TZNAME:EET
DTSTART:20241027T010000
END:STANDARD
END:VTIMEZONE
BEGIN:VEVENT
DTSTART;TZID=Europe/Helsinki:20241203T200000
DTEND;TZID=Europe/Helsinki:20241203T220000
DTSTAMP:20260420T060645
CREATED:20241126T135139Z
LAST-MODIFIED:20241126T135139Z
UID:44034-1733256000-1733263200@www.jongedemocraten.nl
SUMMARY:JDU | JD Klaas
DESCRIPTION:In het kort\n\n\n\n\n\n\n\n \n\n\n\n \n\n\n\n\n\n\n\n\n\nJD Klaas\n\n\n\nSinterklaas bestaat\, en hij komt op bezoek.\n\n\n\nDe Sint gaat al bijna terug naar Spanje\, maar voordat hij vertrekt moet hij natuurlijk wel langs bij zijn favoriete afdeling van zijn favoriete politieke jongeren organisatie! Dat doet hij natuurlijk met een hoop pepernoten en een hele hoop plezier! Dus kom vooral langs\, want deze Sint wil je niet missen. \n\n\n\n\n\n\n\n\n\n🕗 Tijd: 20:00 – 22:00 \n\n\n\n📌Locatie: Milieu centrum (Oudegracht 60) \n\n\n\n\n\nOok als je nog geen officieel lid bent van de JD ben je alsnog van harte welkom. 🙌Voor vragen over dit evenement kun je terecht bij onze secretaris:✉️ secretaris.utrecht@jongedemocraten.nl \n\n\n\n\n\n\n\nFacebook\n\nTwitter\n\nE-mail\n\nInstagram\n\nLinkedIn
URL:https://www.jongedemocraten.nl/evenement/jdu-jd-klaas/
LOCATION:Milieu centrum Utrecht\, Oudegracht 60\, Utrecht\, Utrecht\, 3511AS\, Nederland
CATEGORIES:Utrecht
ATTACH;FMTTYPE=image/png:https://www.jongedemocraten.nl/wp-content/uploads/Sinterklaas-2.png
END:VEVENT
END:VCALENDAR