BEGIN:VCALENDAR
VERSION:2.0
PRODID:-//Jonge Democraten - ECPv5.8.0//NONSGML v1.0//EN
CALSCALE:GREGORIAN
METHOD:PUBLISH
X-WR-CALNAME:Jonge Democraten
X-ORIGINAL-URL:https://www.jongedemocraten.nl
X-WR-CALDESC:Events for Jonge Democraten
BEGIN:VTIMEZONE
TZID:Europe/Helsinki
BEGIN:DAYLIGHT
TZOFFSETFROM:+0200
TZOFFSETTO:+0300
TZNAME:EEST
DTSTART:20250330T010000
END:DAYLIGHT
BEGIN:STANDARD
TZOFFSETFROM:+0300
TZOFFSETTO:+0200
TZNAME:EET
DTSTART:20251026T010000
END:STANDARD
END:VTIMEZONE
BEGIN:VEVENT
DTSTART;TZID=Europe/Helsinki:20250314T173000
DTEND;TZID=Europe/Helsinki:20250314T200000
DTSTAMP:20260420T010244
CREATED:20250314T110531Z
LAST-MODIFIED:20250314T110532Z
UID:45550-1741973400-1741982400@www.jongedemocraten.nl
SUMMARY:JDU | Vrijmibo D66 Borrel.
DESCRIPTION:In het kort\n\n\n\n\n\n\n\n \n\n\n\n\n\n\n\n\n\nVrijmibo borrel D66 \n\n\n\nLekker borrelen op de vrijdag.\n\n\n\nDe week is weer ten einde gekomen. Dat moeten we natuurlijk vieren met een borrel. Daarom sluiten we aan bij de borrel van D66 Utrecht. \n\n\n\n\n\n\n\n\n\n🕗 Tijd: 20:00-22:00 \n\n\n\n📌Locatie: Café Kalff (Oudegracht 47) \n\n\n\n\n\nOok als je nog geen officieel lid bent van de JD ben je alsnog van harte welkom. 🙌Voor vragen over dit evenement kun je terecht bij onze secretaris:✉️ secretaris.utrecht@jongedemocraten.nl \n\n\n\n\n\n\n\nFacebook\n\nTwitter\n\nE-mail\n\nInstagram\n\nLinkedIn
URL:https://www.jongedemocraten.nl/evenement/jdu-vrijmibo-d66-borrel/
LOCATION:Café Kalff\, https://www.google.com/maps/place//data=!4m2!3m1!1s0x47c66f438d153617:0x1e58c87a5ff3233a?sa=X&ved=1t:8290&ictx=111
CATEGORIES:Utrecht
END:VEVENT
END:VCALENDAR