BEGIN:VCALENDAR
VERSION:2.0
PRODID:-//Jonge Democraten - ECPv5.8.0//NONSGML v1.0//EN
CALSCALE:GREGORIAN
METHOD:PUBLISH
X-WR-CALNAME:Jonge Democraten
X-ORIGINAL-URL:https://www.jongedemocraten.nl
X-WR-CALDESC:Events for Jonge Democraten
BEGIN:VTIMEZONE
TZID:Europe/Helsinki
BEGIN:DAYLIGHT
TZOFFSETFROM:+0200
TZOFFSETTO:+0300
TZNAME:EEST
DTSTART:20250330T010000
END:DAYLIGHT
BEGIN:STANDARD
TZOFFSETFROM:+0300
TZOFFSETTO:+0200
TZNAME:EET
DTSTART:20251026T010000
END:STANDARD
END:VTIMEZONE
BEGIN:VEVENT
DTSTART;TZID=Europe/Helsinki:20250520T200000
DTEND;TZID=Europe/Helsinki:20250520T220000
DTSTAMP:20260419T212056
CREATED:20250518T180831Z
LAST-MODIFIED:20250518T180832Z
UID:46204-1747771200-1747778400@www.jongedemocraten.nl
SUMMARY:JDU | Bestuursinteressemoment
DESCRIPTION:In het kort\n\n\n\n\n\n\n\n \n\n\n\n \n\n\n\n\n\n\n\n\n\nBestuursinteressemoment\n\n\n\nWat betekent het om in het bestuur van de JDU te zitten?\n\n\n\nHet einde van het collegejaar komt er alweer aan\, zo eindigt ook het termijn van bestuur van Hartskamp. Na een jaar ons te hebben mogen inzetten voor de afdeling word het tijd om dat stokje over te dragen? Lijkt het jouw misschien wel leuk om dat stokje over te nemen? Kom dan naar het bestuursinteressemoment. Hier kan het huidige bestuur al je vragen beantwoorden over wat het nou eigenlijk in houdt om bestuur bij de JDU te doen. \n\n\n\n\n\n\n\n\n\n🕗 Tijd: 20:00 – 22:00 \n\n\n\n📌Locatie: Café Kalff (Oudegracht 47\, Utrecht) \n\n\n\n\n\nOok als je nog geen officieel lid bent van de JD ben je alsnog van harte welkom. 🙌Voor vragen over dit evenement kun je terecht bij onze secretaris:✉️ secretaris.utrecht@jongedemocraten.nl \n\n\n\n\n\n\n\nFacebook\n\nTwitter\n\nE-mail\n\nInstagram\n\nLinkedIn
URL:https://www.jongedemocraten.nl/evenement/jdu-bestuursinteressemoment-2/
LOCATION:Café Kalff\, Oudegracht 47\, Utrecht\, Utrecht\, 3511 AC\, Nederland
CATEGORIES:Utrecht
END:VEVENT
END:VCALENDAR