BEGIN:VCALENDAR
VERSION:2.0
PRODID:-//Jonge Democraten - ECPv5.8.0//NONSGML v1.0//EN
CALSCALE:GREGORIAN
METHOD:PUBLISH
X-WR-CALNAME:Jonge Democraten
X-ORIGINAL-URL:https://www.jongedemocraten.nl
X-WR-CALDESC:Events for Jonge Democraten
BEGIN:VTIMEZONE
TZID:Europe/Helsinki
BEGIN:DAYLIGHT
TZOFFSETFROM:+0200
TZOFFSETTO:+0300
TZNAME:EEST
DTSTART:20220327T010000
END:DAYLIGHT
BEGIN:STANDARD
TZOFFSETFROM:+0300
TZOFFSETTO:+0200
TZNAME:EET
DTSTART:20221030T010000
END:STANDARD
END:VTIMEZONE
BEGIN:VEVENT
DTSTART;TZID=Europe/Helsinki:20220416T200000
DTEND;TZID=Europe/Helsinki:20220417T030000
DTSTAMP:20260424T051440
CREATED:20220301T112029Z
LAST-MODIFIED:20220414T080250Z
UID:12385-1650139200-1650164400@www.jongedemocraten.nl
SUMMARY:JD-verjaardagsfeest
DESCRIPTION:In het kort\n\n\n\n\n\n\n\n\n\n\n\n \n\n\n\n\n\nFacebook\n\n\n\n\n\n\n\n\n\nTwitter\n\n\n\nDe JD is jarig en dat vieren we! Onze mooie vereniging is 38 jaar geworden. Daarom houden we op 16 april een groot feest. Kortom een feest boordevol klassieke JD-gezelligheid\, in hartje Utrecht bij het gave K-sjot!Het thema is “Alle kleuren van de regenboog“.De aanmelddeadline is 13 april om 23.59. Aanmelden is vereist. De aanmelddeadline is verstreken.  \n\n\n\nMocht je nog vragen hebben\, dan kan je die natuurlijk stellen aan Tom\, via +31627376788 of organisatie@jongedemocraten.nl
URL:https://www.jongedemocraten.nl/evenement/jd-verjaardagsfeest/
LOCATION:K-sjot\, Oudegracht aan de Werf 157\, 3511 AK Utrecht
CATEGORIES:Landelijk
ATTACH;FMTTYPE=image/jpeg:https://www.jongedemocraten.nl/wp-content/uploads/49090606581_3e25cb4679_6k-scaled.jpg
END:VEVENT
END:VCALENDAR