BEGIN:VCALENDAR
VERSION:2.0
PRODID:-//Jonge Democraten - ECPv5.8.0//NONSGML v1.0//EN
CALSCALE:GREGORIAN
METHOD:PUBLISH
X-WR-CALNAME:Jonge Democraten
X-ORIGINAL-URL:https://www.jongedemocraten.nl
X-WR-CALDESC:Events for Jonge Democraten
BEGIN:VTIMEZONE
TZID:Europe/Helsinki
BEGIN:DAYLIGHT
TZOFFSETFROM:+0200
TZOFFSETTO:+0300
TZNAME:EEST
DTSTART:20230326T010000
END:DAYLIGHT
BEGIN:STANDARD
TZOFFSETFROM:+0300
TZOFFSETTO:+0200
TZNAME:EET
DTSTART:20231029T010000
END:STANDARD
BEGIN:DAYLIGHT
TZOFFSETFROM:+0200
TZOFFSETTO:+0300
TZNAME:EEST
DTSTART:20240331T010000
END:DAYLIGHT
BEGIN:STANDARD
TZOFFSETFROM:+0300
TZOFFSETTO:+0200
TZNAME:EET
DTSTART:20241027T010000
END:STANDARD
BEGIN:DAYLIGHT
TZOFFSETFROM:+0200
TZOFFSETTO:+0300
TZNAME:EEST
DTSTART:20250330T010000
END:DAYLIGHT
BEGIN:STANDARD
TZOFFSETFROM:+0300
TZOFFSETTO:+0200
TZNAME:EET
DTSTART:20251026T010000
END:STANDARD
END:VTIMEZONE
BEGIN:VEVENT
DTSTART;TZID=Europe/Helsinki:20230207T200000
DTEND;TZID=Europe/Helsinki:20230207T220000
DTSTAMP:20260424T122414
CREATED:20230103T155609Z
LAST-MODIFIED:20230202T214502Z
UID:33016-1675800000-1675807200@www.jongedemocraten.nl
SUMMARY:JD LH Poolen
DESCRIPTION:In het kort\n\n\n\nWanneer\n\n\n\n\n\nWaar\n\n\n\n\n\n\n\n\n\n\n\n\n\nBeschrijving\n\n\n\n\n\n\n\n\n\n\n\n\n\n\n\n\n\n\n\nOf je nou een natuurtalent of een onervaren speler bent\, iedereen is op 7 februari welkom gezellig met de afdeling te komen poolen. Wees erbij! De locatie volgt.
URL:https://www.jongedemocraten.nl/evenement/jd-lh-caribisch-netwerk/
LOCATION:Locatie volgt
CATEGORIES:Leiden-Haaglanden
ATTACH;FMTTYPE=image/jpeg:https://www.jongedemocraten.nl/wp-content/uploads/Banner2520Den2520Haag20Edited-Edited-1.jpeg
END:VEVENT
BEGIN:VEVENT
DTSTART;TZID=Europe/Helsinki:20240320T203000
DTEND;TZID=Europe/Helsinki:20240320T220000
DTSTAMP:20260424T122414
CREATED:20240216T170559Z
LAST-MODIFIED:20240219T135236Z
UID:40057-1710966600-1710972000@www.jongedemocraten.nl
SUMMARY:Lezing en Q&A over Kernfusie
DESCRIPTION:In het kort\n\n\n\n\n\n \n\n\n\n\n\n\n\n\n\n\n\n📆 Op 20 maart 2024 om 20:30 hebben we een speciale gast bij de Jonge Democraten: Professor Niek Lopes Cardozo! 🎓 Hij zal ons alles vertellen over kernfusie\, een fascinerend onderwerp dat de toekomst van energie kan veranderen. \n🚀 De lezing en de daaropvolgende Q&A zullen online plaatsvinden via Google Meet\, dus je kunt deelnemen vanuit het comfort van je eigen huis! \n📝 Wil je deze kans niet missen? Registreer je dan door de volgende link te volgen: https://forms.gle/4nzngzFngtsD6auYA \n💡 Bereid je voor op een boeiende avond vol nieuwe inzichten en interessante discussies! \n👥 We kijken ernaar uit om jullie allemaal online te zien op 20 maart om 20:30 uur! \n\n\n\n\n\nFacebook\n\n\n\n\n\n\n\n\n\nTwitter
URL:https://www.jongedemocraten.nl/evenement/lezen-en-qa-over-kernfusie/
LOCATION:Locatie volgt
CATEGORIES:Landelijk
ATTACH;FMTTYPE=image/jpeg:https://www.jongedemocraten.nl/wp-content/uploads/52352514995_f055cf89b7_k.jpg
END:VEVENT
BEGIN:VEVENT
DTSTART;TZID=Europe/Helsinki:20240324T100000
DTEND;TZID=Europe/Helsinki:20240324T220000
DTSTAMP:20260424T122414
CREATED:20240306T153633Z
LAST-MODIFIED:20240306T153634Z
UID:40365-1711274400-1711317600@www.jongedemocraten.nl
SUMMARY:Debatdag met het debatnetwerk
DESCRIPTION:In het kort\n\n\n\n\n\n \n\n\n\n\n\n\n\n\n\n\n\nBeste Jonge Democraten\, \nWisten jullie al dat de JD een debatnetwerk heeft? Wil jij leren debatteren of wil jij je retorica toepassen op verschillende stellingen? Kom dan bij het JD-debat netwerk.  \nAankomende zondag 24 maart hebben we weer een debat middag in Den Haag. Wil jij langskomen wordt dan lid van het debatnetwerk door in de appgroep te gaan! Dit kan door contact op te nemen met internezaken@jongedemocraten.nl \n\n\n\n\n\nFacebook\n\n\n\n\n\n\n\n\n\nTwitter
URL:https://www.jongedemocraten.nl/evenement/debatdag-met-het-debatnetwerk/
LOCATION:Locatie volgt
CATEGORIES:Landelijk
ATTACH;FMTTYPE=image/jpeg:https://www.jongedemocraten.nl/wp-content/uploads/49647435451_2797008e41_k-1.jpg
END:VEVENT
BEGIN:VEVENT
DTSTART;TZID=Europe/Helsinki:20240420T100000
DTEND;TZID=Europe/Helsinki:20240420T220000
DTSTAMP:20260424T122414
CREATED:20231023T134642Z
LAST-MODIFIED:20240404T142946Z
UID:37291-1713607200-1713650400@www.jongedemocraten.nl
SUMMARY:Werkgroependag
DESCRIPTION:In het kort:\n\n\n\n\n\n \n\n\n\n\n\n\n\n\n\n\n\nLief werkgroeplid! \nOp zaterdag 20 april vindt de Werkgroependag plaats in Den Haag op het Landelijk Bureau van D66\, de dag waarop we alle werkgroepleden willen bedanken voor hun inzet in de werkgroepen! \nHet belooft een ontzettend leuke dag te worden\, met onder andere een boeiende training\, bekende sprekers en een bezoek aan een museum/een stadswandeling. Tickets kan je bestellen tot dinsdag 9 april aanstaande via de volgende link: https://jongedemocraten.nl/product/werkgroependag/  \nDit evenement is dus alleen voor werkgroepleden! Twijfel je of je dat bent? Stuur dan even een mailtje! Als je nog vragen hebt kun je mailen naar politiek@jongedemocraten.nl \n\n\n\n\n\nFacebook\n\n\n\n\n\n\n\n\n\nTwitter
URL:https://www.jongedemocraten.nl/evenement/werkgroependag-3/
LOCATION:Locatie volgt
CATEGORIES:Landelijk
ATTACH;FMTTYPE=image/jpeg:https://www.jongedemocraten.nl/wp-content/uploads/51654144703_f9b50b61f3_k1.jpg
END:VEVENT
BEGIN:VEVENT
DTSTART;TZID=Europe/Helsinki:20240421T130000
DTEND;TZID=Europe/Helsinki:20240421T170000
DTSTAMP:20260424T122414
CREATED:20231023T135219Z
LAST-MODIFIED:20240321T080351Z
UID:37293-1713704400-1713718800@www.jongedemocraten.nl
SUMMARY:Bestuursinteressemoment
DESCRIPTION:In het kort:\n\n\n\n\n\n \n\n\n\n\n\n\n\n\n\n\n\nOp het komende zomercongres van 14 tot 16 juni verkiezen we een nieuw Landelijk Bestuur (LB)! 🙋🏻‍♀️🙋🏿‍♂️🙋🏼‍♂️🙋🏽‍♀️Heb jij interesse om volgend jaar landelijk bestuur te gaan doen? 💚 Kom dan naar het bestuursinteressemoment op 21 april! Het moment begint om 13.00 en duurt tot 17.00 en zal plaatsvinden bij de se7en in Utrecht. Bij het bestuursinteressemoment zal het huidige landelijke bestuur je meenemen in de functies en wat je kan verwachten. Ook kan je vragen stellen aan de LB’ers er over. Aanmelden is niet nodig. \nDe vacature voor Landelijk Bestuur vind je hier: https://jongedemocraten.nl/vacature-landelijk-bestuur-2024-2025  \n\n\n\n\n\n\n\n\n\nInstagram\n\n\n\n\n\nTwitter
URL:https://www.jongedemocraten.nl/evenement/bestuursinteressemoment-4/
LOCATION:Locatie volgt
CATEGORIES:Landelijk
ATTACH;FMTTYPE=image/png:https://www.jongedemocraten.nl/wp-content/uploads/Flyers-zomeroffensief-edited.png
END:VEVENT
BEGIN:VEVENT
DTSTART;TZID=Europe/Helsinki:20240425T200000
DTEND;TZID=Europe/Helsinki:20240425T220000
DTSTAMP:20260424T122414
CREATED:20240227T121040Z
LAST-MODIFIED:20240229T153735Z
UID:40159-1714075200-1714082400@www.jongedemocraten.nl
SUMMARY:Masterclass: Politieke beïnvloeding
DESCRIPTION:In het kort\n\n\n\n\n\n \n\n\n\n\n\n\n\n\n\n\n\nBeste Jonge Democraten\, \nHeb jij altijd al willen leren hoe jij de politiek nou echt kan beïnvloeden? Dit kan binnenkort namelijk binnen de JD! Met de masterclass politieke beïnvloeding leren we jou hoe beleid tot stand komt\, hoe jij er achter komt bij wie je moet lobbyen en hoe je überhaupt het beste kan lobbyen. \nDe masterclass bestaat uit 2 delen. Op donderdag 25 april van 20:00 tot 22:00 wordt er een online sessie georganiseerd. Op zaterdag 11 mei van 10 tot 17 wordt er een fysieke sessie georganiseerd met lunch. \nWil jij mee doen\, meld je dan snel aan via deze link: https://jongedemocraten.nl/product/ticket-masterclass-politieke-beinvloeding/Meedoen kost 5-10 euro. \nHeb je vragen over deze masterclass dan kan je Lennart bereiken via internezaken@jongedemocraten.nl \n\n\n\n\n\nFacebook\n\n\n\n\n\n\n\n\n\nTwitter
URL:https://www.jongedemocraten.nl/evenement/masterclass-politieke-beinvloeding/
LOCATION:Locatie volgt
CATEGORIES:Landelijk
END:VEVENT
BEGIN:VEVENT
DTSTART;TZID=Europe/Helsinki:20240502T193000
DTEND;TZID=Europe/Helsinki:20240502T220000
DTSTAMP:20260424T122414
CREATED:20240427T184339Z
LAST-MODIFIED:20240427T184340Z
UID:41387-1714678200-1714687200@www.jongedemocraten.nl
SUMMARY:Politieke brainstorm: Internationaal
DESCRIPTION:In het kort\n\n\n\n\n\n \n\n\n\n\n\n\n\n\n\n\n\nOm goed voorbereid naar het congres te gaan organiseren de werkgroepen Politieke Brainstorms! Tijdens deze sessies kan je samen moties schrijven\, een trainin volgen of een resolutie eens kritisch onder de loep nemen. In totaal zijn er 4 sessies: \n\nBuitenlandse Zaken & Defensie + Migratie & Asiel gaan de ingediende resoluties bespreken. Dit is op 2 mei om 19.30\, op het Landelijk Bureau in Den Haag (Lange Houtstraat 11\, Den Haag).\nOnderwijs & Wetenschap\, Kunst\, Cultuur & Media en Filosofie organiseren een training waar je leert hoe je een goede motie te schrijven en daarna kan je direct aan de slag. Dit is op 13 mei om 20.00 in de Florin in Utrecht (Nobelstraat 2\, Utrecht).\nDemocratie & Rechtsstaat + Digitalisering & Automatisering gaan samen aan de slag met het schrijven van moties. Dit is online op 16 mei om 20.00.\nEconomie\, Financiën & Sociale Zaken + Duurzaamheid + VROeM gaan moties én amendementen op de ingediende resolutie schrijven. Dit is op 22 mei om 19.00\, op het Landelijk Bureau in Den Haag (Lange Houtstraat 11\, Den Haag).\n\nAlle geschreven voorstellen kan je vervolgens indienen t/m 25 mei en meld je dan ook direct even aan voor het congres\, dat kan tot 1 juni! \nAanmelden voor de brainstorms is niet nodig\, maar je kan altijd een berichtje sturen naar Elise via politiek@jongedemocraten.nl. \nHeb je vragen over een motie of wil je hem even laten nalezen. Er zit de komende weken een team ervaren JD’ers voor je klaar. Mail helpdesk.moties@jongedemocraten.nl \n\n\n\n\n\nFacebook\n\n\n\n\n\n\n\n\n\nTwitter
URL:https://www.jongedemocraten.nl/evenement/politieke-brainstorm-internationaal/
LOCATION:Locatie volgt
CATEGORIES:Landelijk
END:VEVENT
BEGIN:VEVENT
DTSTART;TZID=Europe/Helsinki:20240506T200000
DTEND;TZID=Europe/Helsinki:20240506T220000
DTSTAMP:20260424T122414
CREATED:20240401T152648Z
LAST-MODIFIED:20240401T152650Z
UID:41014-1715025600-1715032800@www.jongedemocraten.nl
SUMMARY:Thema-avond ‘Migratie als Europees verkiezingsthema'
DESCRIPTION:In het kort\n\n\n\n\n\n \n\n\n\n\n\n\n\n\n\n\n\nMeer informatie volgt. \n\n\n\n\n\nFacebook\n\n\n\n\n\n\n\n\n\nTwitter
URL:https://www.jongedemocraten.nl/evenement/thema-avond-migratie-als-europees-verkiezingsthema/
LOCATION:Locatie volgt
CATEGORIES:Landelijk
END:VEVENT
BEGIN:VEVENT
DTSTART;TZID=Europe/Helsinki:20240511T200000
DTEND;TZID=Europe/Helsinki:20240511T220000
DTSTAMP:20260424T122414
CREATED:20240227T121217Z
LAST-MODIFIED:20240229T153645Z
UID:40161-1715457600-1715464800@www.jongedemocraten.nl
SUMMARY:Masterclass: Politieke beïnvloeding
DESCRIPTION:In het kort\n\n\n\n\n\n \n\n\n\n\n\n\n\n\n\n\n\nBeste Jonge Democraten\, \nHeb jij altijd al willen leren hoe jij de politiek nou echt kan beïnvloeden? Dit kan binnenkort namelijk binnen de JD! Met de masterclass politieke beïnvloeding leren we jou hoe beleid tot stand komt\, hoe jij er achter komt bij wie je moet lobbyen en hoe je überhaupt het beste kan lobbyen. \nDe masterclass bestaat uit 2 delen. Op donderdag 25 april van 20:00 tot 22:00 wordt er een online sessie georganiseerd. Op zaterdag 11 mei van 10 tot 17 wordt er een fysieke sessie georganiseerd met lunch. \nWil jij mee doen\, meld je dan snel aan via deze link: https://jongedemocraten.nl/product/ticket-masterclass-politieke-beinvloeding/ Meedoen kost 5-10 euro. \nHeb je vragen over deze masterclass dan kan je Lennart bereiken via internezaken@jongedemocraten.nl \n\n\n\n\n\nFacebook\n\n\n\n\n\n\n\n\n\nTwitter
URL:https://www.jongedemocraten.nl/evenement/masterclass-politieke-beinvloeding-2/
LOCATION:Locatie volgt
CATEGORIES:Landelijk
END:VEVENT
BEGIN:VEVENT
DTSTART;TZID=Europe/Helsinki:20240523T100000
DTEND;TZID=Europe/Helsinki:20240523T220000
DTSTAMP:20260424T122414
CREATED:20240227T124329Z
LAST-MODIFIED:20240307T171735Z
UID:40168-1716458400-1716501600@www.jongedemocraten.nl
SUMMARY:Masterclass: Media
DESCRIPTION:In het kort\n\n\n\n\n\n \n\n\n\n\n\n\n\n\n\n\n\nBeste Jonge Democraten\, \nWil jij leren hoe je in de media kan komen? Wil jij weten wat een spindoctor nou precies doet en wil jij dat ook kunnen? Wil jij de pers te woord leren staan en jouw social media nog beter te benutten om jouw doel te bereiken? Dan is de masterclass Media iets voor jou! \nDe masterclass bestaat uit twee avonden. Op 23 mei zal je in Utrecht geïnformeerd worden over alles media.Op 30 mei is er een verdiepende sessie. Je kan hier kiezen uit een sessie social media of een sessie voor het schrijven van prikkelende stukken. \nMeld je snel aan via deze link: https://jongedemocraten.nl/product/ticket-masterclass-media/ \nHeb je vragen over de masterclass\, dan kan je Lennart bereiken via internezaken@jongedemocraten.nl \n\n\n\n\n\nFacebook\n\n\n\n\n\n\n\n\n\nTwitter
URL:https://www.jongedemocraten.nl/evenement/masterclass-media/
LOCATION:Locatie volgt
CATEGORIES:Landelijk
END:VEVENT
BEGIN:VEVENT
DTSTART;TZID=Europe/Helsinki:20240525T100000
DTEND;TZID=Europe/Helsinki:20240526T220000
DTSTAMP:20260424T122414
CREATED:20231023T135432Z
LAST-MODIFIED:20240408T080739Z
UID:37297-1716631200-1716760800@www.jongedemocraten.nl
SUMMARY:Lustrumgala
DESCRIPTION:In het kort:\n\n\n\n\n\n \n\n\n\n\n\n\n\n\n\n\n\nLieve leden\, \n25 mei is het groot feest en gaan we ons lunstrum vieren met een gala. De aanmeldingen zijn gaan open op 8 april vanaf 12.00 uur! Meld je snel aan want vol=vol! \nHet gala zal plaatsvinden in Hotel de Witte Raaf in Noordwijk. Deze locatie is maar 15 minuten verwijderd van het strand en bevindt zich aan de voet van de duinen. Het gala diner begint om 18:00. Je moet dus voor 18.00 uur inchecken. Om 21:00 is het diner klaar en zullen we naar de feestzaal verplaatsen. \nEr zijn twee soorten tickets beschikbaar voor het gala: \n\nTicket met overnachting: \nTicket zonder overnachting\n\nBij een ticket met overrnachting hoort een twee- of driepersoonskamer. De ticket zonder overnachting betekend dat er geen slaapplek inbegrepen is. Wel zit hier een shuttle bij die je van de galalocatie naar Leiden centraal zal brengen. Zodat je daar de nachttrein kan pakken of naar een slaaplocatie kan gaan die je zelf regelt.  \nDe definitieve prijzen staan nog niet volledig vast. We kunnen momenteel alleen de maximum prijzen geven. Over 2 weken zijn de definiteve prijzen bekend. Je hoeft ook dan pas te betalen en dus je gereserveerde ticket definitief te bevestigen. De prijzen zijn nu:* JD’er zonder overnachting max 40* Niet JD’er zonder overnachting 70 euro* JD’er met overnachting 80 euro* Niet JD’er met overnachting 110 euro \nLet op! Je date hoeft geen apart ticket te bestellen. Ook niet al het een JD’er is. Je meldt je dus aan voor jou EN je date tegelijk.  \nJe kan je aanmelden vanaf 8 april tot en met 22 april (of tot wanneer de kaartjes op zijn). Vanaf 22 april krijgt iedereen die zich heeft aangemeld een bericht om zich definitief aan te melden en te betalen. Dit kan je doen tot 1 mei. Heb je je dan nog niet aangemeld dat vervalt je reservering en beland je aan het einde van de wachtrij en krijgen de mensen in de wachtrij de mogelijkheid om aan te melden. \nReserveren kan via deze link: https://forms.gle/6sV73yoqBDgXAVX56 \n\n\n\n\n\n\n\n\n\nInstagram\n\n\n\n\n\nTwitter
URL:https://www.jongedemocraten.nl/evenement/lustrumgala/
LOCATION:Locatie volgt
CATEGORIES:Landelijk
END:VEVENT
BEGIN:VEVENT
DTSTART;TZID=Europe/Helsinki:20240528T200000
DTEND;TZID=Europe/Helsinki:20240528T220000
DTSTAMP:20260424T122414
CREATED:20240425T185419Z
LAST-MODIFIED:20240427T194755Z
UID:41348-1716926400-1716933600@www.jongedemocraten.nl
SUMMARY:Congres 101: Congrestraining
DESCRIPTION:In het kort\n\n\n\n\n\n \n\n\n\n\n\n\n\n\n\n\n\nBen je nieuw lid of kunnen je congresvaardigheden wel wat afstoffen gebruiken? Geen zorgen\, we bereiden je helemaal voor! Het zomercongres vindt dit jaar plaats van 14 tot 16 juni in Den Haag. Op het zomercongres bespreken we de politieke lijn van de vereniging\, wordt een nieuw bestuur verkozen en zijn er tal van interessante sprekers. En natuurlijk is er tijd voor een feestje en andere gezelligheid! \nOm je helemaal voor te bereiden hebben we voorafgaand aan het congres twee trainingen: op 28 mei is er een congrestraining waarin we je precies uitleggen hoe een congres werkt en wat we daar doen. Op 4 juni leer je pitchen en presenteren om je helemaal klaar te stomen voor het debat. \nVia deze link kun je je aanmelden voor beide trainingen. Het is natuurlijk ook mogelijk om je voor een van de twee aan te melden. Dit kun je aangeven in het ticket. \nJe kan je al inschrijven voor het congres via deze link. Aarzel vooral niet en sluit gezellig aan. Iedereen is van harte welkom. En als nieuw lid kun je zelfs een buddy aanvragen die je ook tijdens het congres op weg helpt.  \nHeb je vragen over deze trainingen dan kan je Lennart bereiken via internezaken@jongedemocraten.nl. \n\n\n\n\n\nFacebook\n\n\n\n\n\n\n\n\n\nTwitter
URL:https://www.jongedemocraten.nl/evenement/congres-101-congrestraining/
LOCATION:Locatie volgt
CATEGORIES:Landelijk
ATTACH;FMTTYPE=image/jpeg:https://www.jongedemocraten.nl/wp-content/uploads/52352514995_f055cf89b7_k.jpg
END:VEVENT
BEGIN:VEVENT
DTSTART;TZID=Europe/Helsinki:20240530T100000
DTEND;TZID=Europe/Helsinki:20240530T220000
DTSTAMP:20260424T122414
CREATED:20240227T124431Z
LAST-MODIFIED:20240307T171850Z
UID:40170-1717063200-1717106400@www.jongedemocraten.nl
SUMMARY:Masterclass: Media
DESCRIPTION:In het kort\n\n\n\n\n\n \n\n\n\n\n\n\n\n\n\n\n\nBeste Jonge Democraten\, \nWil jij leren hoe je in de media kan komen? Wil jij weten wat een spindoctor nou precies doet en wil jij dat ook kunnen? Wil jij de pers te woord leren staan en jouw social media nog beter te benutten om jouw doel te bereiken? Dan is de masterclass Media iets voor jou! \nDe masterclass bestaat uit twee avonden. Op 23 mei zal je in Utrecht geïnformeerd worden over alles media.Op 30 mei is er een verdiepende sessie. Je kan hier kiezen uit een sessie social media of een sessie voor het schrijven van prikkelende stukken. \nMeld je snel aan via deze link: https://jongedemocraten.nl/product/ticket-masterclass-media/ \nVoor vragen kan je contact opnemen met Lennart via internezaken@jongedemocraten.nl \n\n\n\n\n\nFacebook\n\n\n\n\n\n\n\n\n\nTwitter
URL:https://www.jongedemocraten.nl/evenement/masterclass-media-2/
LOCATION:Locatie volgt
CATEGORIES:Landelijk
END:VEVENT
BEGIN:VEVENT
DTSTART;TZID=Europe/Helsinki:20240601T100000
DTEND;TZID=Europe/Helsinki:20240601T220000
DTSTAMP:20260424T122414
CREATED:20231023T135953Z
LAST-MODIFIED:20231101T133539Z
UID:37299-1717236000-1717279200@www.jongedemocraten.nl
SUMMARY:OudLB-dag
DESCRIPTION:In het kort:\n\n\n\n\n\n \n\n\n\n\n\n\n\n\n\n\n\nMeer informatie volgt. \n\n\n\n\n\n\n\n\n\nInstagram\n\n\n\n\n\nTwitter
URL:https://www.jongedemocraten.nl/evenement/oudlb-dag/
LOCATION:Locatie volgt
CATEGORIES:Landelijk
ATTACH;FMTTYPE=image/jpeg:https://www.jongedemocraten.nl/wp-content/uploads/49089921038_067da11867_o1920.jpg
END:VEVENT
BEGIN:VEVENT
DTSTART;TZID=Europe/Helsinki:20240622T160000
DTEND;TZID=Europe/Helsinki:20240622T220000
DTSTAMP:20260424T122414
CREATED:20231023T140240Z
LAST-MODIFIED:20240517T174714Z
UID:37303-1719072000-1719093600@www.jongedemocraten.nl
SUMMARY:Kaderbedankdag
DESCRIPTION:In het kort:\n\n\n\n\n\n \n\n\n\n\n\n\n\n\n\n\n\nAls bestuur zijn wij natuurlijk ontzettend blij met al onze leden. Een dag per jaar willen wij echter onze kaderleden extra in het zonnetje zetten. Zonder jullie inzet zou de JD niet mogelijk zijn! En dat mag best gevierd worden. \nWij nodigen alle kaderleden uit om op zaterdag 22 juni 2024 naar Utrecht te komen voor de kaderbedankdag. We beginnen om 16.00 uur bij het Centraal Station in Utrecht met een toffe activiteit en gaan daarna uiteraard nog lekker uit eten. Dat wil je niet missen\, dus zet de datum alvast in je agenda en meld je aan via deze link: https://jongedemocraten.nl/product/ticket-kaderbedankdag/ \nAanmelden kan tot en met 13 juni 2024 om 17.00 uur. \nTwijfel je of je kaderlid bent? Stuur dan een mailtje naar secretaris@jongedemocraten.nl. Ook met vragen over de activiteit kun je hier terecht. \n\n\n\n\n\n\n\n\n\nInstagram\n\n\n\n\n\nTwitter
URL:https://www.jongedemocraten.nl/evenement/kaderbedankdag/
LOCATION:Locatie volgt
CATEGORIES:Landelijk
END:VEVENT
BEGIN:VEVENT
DTSTART;TZID=Europe/Helsinki:20240914T100000
DTEND;TZID=Europe/Helsinki:20240914T220000
DTSTAMP:20260424T122414
CREATED:20231023T140627Z
LAST-MODIFIED:20240715T125050Z
UID:37309-1726308000-1726351200@www.jongedemocraten.nl
SUMMARY:Septembercongres
DESCRIPTION:In het kort\n\n\n\n\n\n \n\n\n\n\n\n\n\n\n\n\n\nOp 14 september 2024 vindt het septembercongres plaats\, het toneel van de 99ste algemene ledenvergadering van de Jonge Democraten. Dit jaar gaan we naar Den Bosch. Het septembercongres is een eendaags\, organisatorisch congres waar geen politieke inhoud wordt behandeld. Aansluitend bij de ALV is er ook een diner en een borrel. Aanmelden kan hier. \nBestuur Van Dam zal haar beleidsplan en begroting presenteren\, waar je vragen over kunt stellen. Daarnaast worden verschillende congresvoorstellen\, zoals HR-wijzigingen\, behandeld. Deze kun je amenderen. Kijk hier voor meer informatie daarover. \n\n\n\n\n\nFacebook\n\n\n\n\n\n\n\n\n\nTwitter
URL:https://www.jongedemocraten.nl/evenement/septembercongres-2/
LOCATION:Locatie volgt
CATEGORIES:Landelijk
ATTACH;FMTTYPE=image/jpeg:https://www.jongedemocraten.nl/wp-content/uploads/52352514995_f055cf89b7_k.jpg
END:VEVENT
BEGIN:VEVENT
DTSTART;TZID=Europe/Helsinki:20250913T100000
DTEND;TZID=Europe/Helsinki:20250913T220000
DTSTAMP:20260424T122414
CREATED:20250206T153112Z
LAST-MODIFIED:20250706T092818Z
UID:45096-1757757600-1757800800@www.jongedemocraten.nl
SUMMARY:Septembercongres
DESCRIPTION:In het kort\n\n\n\n\n\n \n\n\n\n\n\n\n\n\n\n\n\nOp 13 september 2025 vindt het septembercongres plaats in Nijmegen\, het toneel van de 102e algemene ledenvergadering van de Jonge Democraten. Het septembercongres is een eendaags\, organisatorisch congres waar geen politieke inhoud wordt behandeld. Aansluitend bij de ALV is er ook een diner en een borrel. Aanmelden kan hier tot en met 27 augustus! \n  \n\n\n\n\n\nFacebook\n\n\n\n\n\n\n\n\n\nTwitter
URL:https://www.jongedemocraten.nl/evenement/septembercongres-4/
LOCATION:Locatie volgt
CATEGORIES:Landelijk
ATTACH;FMTTYPE=image/jpeg:https://www.jongedemocraten.nl/wp-content/uploads/52352514995_f055cf89b7_k.jpg
END:VEVENT
END:VCALENDAR