BEGIN:VCALENDAR
VERSION:2.0
PRODID:-//Jonge Democraten - ECPv5.8.0//NONSGML v1.0//EN
CALSCALE:GREGORIAN
METHOD:PUBLISH
X-WR-CALNAME:Jonge Democraten
X-ORIGINAL-URL:https://www.jongedemocraten.nl
X-WR-CALDESC:Events for Jonge Democraten
BEGIN:VTIMEZONE
TZID:Europe/Helsinki
BEGIN:DAYLIGHT
TZOFFSETFROM:+0200
TZOFFSETTO:+0300
TZNAME:EEST
DTSTART:20240331T010000
END:DAYLIGHT
BEGIN:STANDARD
TZOFFSETFROM:+0300
TZOFFSETTO:+0200
TZNAME:EET
DTSTART:20241027T010000
END:STANDARD
END:VTIMEZONE
BEGIN:VEVENT
DTSTART;TZID=Europe/Helsinki:20240223T180000
DTEND;TZID=Europe/Helsinki:20240225T190000
DTSTAMP:20260421T121314
CREATED:20231023T090727Z
LAST-MODIFIED:20240119T132218Z
UID:37278-1708711200-1708887600@www.jongedemocraten.nl
SUMMARY:Kaderweekend
DESCRIPTION:In het kort:\n\n\n\n\n\n\n\n \n\n\n\n\n\n\n\n\n\nVan 23 tot en met 25 februari vind het tweede kaderweekend van dit bestuursjaar plaats. Dit maal zullen we verblijven in het prachtige Soest. \nDe aanmeldingen zijn inmiddels geopend. Let op! Je kan je aanmelden tot 2 februari! Aanmelden kan via het volgende ticket: \nTicket Kaderweekend I 2024 \n \nOm onnodige kosten te voorkomen\, betaal je bij aanmelding deze keer 10 euro. Bij aankomst op het kaderweekend zul je dit bedrag terugkrijgen in de vorm van consumptiemuntjes. Het kaderweekend blijft dus gratis! Als je niet komt en je niet hebt afgemeld van tevoren\, krijg je dit bedrag echter niet terug. \nLET OP: Bij het invullen van je gegevens komt het ticket in je winkelmand terecht. Deze moet je vervolgens nogmaals bevestigen. Je bent dus pas definitief aangemeld als je een bevestiging per mail hebt ontvangen! \n\n\n\n\n\n\n\n\n\nInstagram\n\n\n\n\n\nTwitter
URL:https://www.jongedemocraten.nl/evenement/kaderweekend-2/
LOCATION:Soest
CATEGORIES:Landelijk
END:VEVENT
END:VCALENDAR