BEGIN:VCALENDAR
VERSION:2.0
PRODID:-//Jonge Democraten - ECPv5.8.0//NONSGML v1.0//EN
CALSCALE:GREGORIAN
METHOD:PUBLISH
X-WR-CALNAME:Jonge Democraten
X-ORIGINAL-URL:https://www.jongedemocraten.nl
X-WR-CALDESC:Events for Jonge Democraten
BEGIN:VTIMEZONE
TZID:Europe/Helsinki
BEGIN:DAYLIGHT
TZOFFSETFROM:+0200
TZOFFSETTO:+0300
TZNAME:EEST
DTSTART:20220327T010000
END:DAYLIGHT
BEGIN:STANDARD
TZOFFSETFROM:+0300
TZOFFSETTO:+0200
TZNAME:EET
DTSTART:20221030T010000
END:STANDARD
BEGIN:DAYLIGHT
TZOFFSETFROM:+0200
TZOFFSETTO:+0300
TZNAME:EEST
DTSTART:20230326T010000
END:DAYLIGHT
BEGIN:STANDARD
TZOFFSETFROM:+0300
TZOFFSETTO:+0200
TZNAME:EET
DTSTART:20231029T010000
END:STANDARD
BEGIN:DAYLIGHT
TZOFFSETFROM:+0200
TZOFFSETTO:+0300
TZNAME:EEST
DTSTART:20240331T010000
END:DAYLIGHT
BEGIN:STANDARD
TZOFFSETFROM:+0300
TZOFFSETTO:+0200
TZNAME:EET
DTSTART:20241027T010000
END:STANDARD
BEGIN:DAYLIGHT
TZOFFSETFROM:+0200
TZOFFSETTO:+0300
TZNAME:EEST
DTSTART:20250330T010000
END:DAYLIGHT
BEGIN:STANDARD
TZOFFSETFROM:+0300
TZOFFSETTO:+0200
TZNAME:EET
DTSTART:20251026T010000
END:STANDARD
END:VTIMEZONE
BEGIN:VEVENT
DTSTART;TZID=Europe/Helsinki:20220713T200000
DTEND;TZID=Europe/Helsinki:20220713T220000
DTSTAMP:20260422T151756
CREATED:20220703T084459Z
LAST-MODIFIED:20220703T084500Z
UID:30374-1657742400-1657749600@www.jongedemocraten.nl
SUMMARY:Landelijke Inputsessie Gedragscode
DESCRIPTION:In het kort\n\n\n\n\n\n\n\n\n\nHet Landelijk Bestuur is een gedragscode voor de JD aan het opstellen. Deze gedragscode leggen we voor aan de Algemene Ledenvergadering op het aanstaande Septembercongres. Ook voor die tijd willen we graag input verzamelen. Daarom organiseren we op 13 juli om 20:00 een online inputsessie over de gedragscode. Wil je daarbij zijn? Meld je dan aan via deze pagina. Voor de sessie ontvang je van ons een opzet voor de gedragscode en de deelnamelink. \n  \n\n\n\n\n\nFacebook\n\n\n\n\n\n\n\n\n\nTwitter
URL:https://www.jongedemocraten.nl/evenement/landelijke-inputsessie-gedragscode/
LOCATION:Utrecht
CATEGORIES:Landelijk
ATTACH;FMTTYPE=image/jpeg:https://www.jongedemocraten.nl/wp-content/uploads/49647457191_f4d062b846_o-scaled.jpg
END:VEVENT
BEGIN:VEVENT
DTSTART;TZID=Europe/Helsinki:20220814T100000
DTEND;TZID=Europe/Helsinki:20220814T170000
DTSTAMP:20260422T151756
CREATED:20220703T080902Z
LAST-MODIFIED:20220723T084541Z
UID:30369-1660471200-1660496400@www.jongedemocraten.nl
SUMMARY:Jonge Democraten in alle Staten: Trainingsdag #1
DESCRIPTION:In het kort\n\n\n\n\n\n\n\n\n\nDag 1/2 van het trainingsprogramma voor de Provinciale Statenverkiezingen. Meer informatie vind je op deze pagina. Stuur je motivatiebrief en cv uiterlijk 31 juli om 23:59 op naar Eswara via profilering@jongedemocraten.nl om je aan te melden. \n  \n\n\n\n\n\nFacebook\n\n\n\n\n\n\n\n\n\nTwitter
URL:https://www.jongedemocraten.nl/evenement/jonge-democraten-in-alle-staten-trainingsdag-1/
LOCATION:Utrecht
CATEGORIES:Landelijk
ATTACH;FMTTYPE=image/jpeg:https://www.jongedemocraten.nl/wp-content/uploads/49647457191_f4d062b846_o-scaled.jpg
END:VEVENT
BEGIN:VEVENT
DTSTART;TZID=Europe/Helsinki:20220904T100000
DTEND;TZID=Europe/Helsinki:20220904T170000
DTSTAMP:20260422T151756
CREATED:20220703T081023Z
LAST-MODIFIED:20220723T084626Z
UID:30371-1662285600-1662310800@www.jongedemocraten.nl
SUMMARY:Jonge Democraten in alle Staten: Trainingsdag #2
DESCRIPTION:In het kort\n\n\n\n\n\n\n\n\n\nDag 2/2 van het trainingsprogramma voor de Provinciale Statenverkiezingen. Meer informatie vind je op deze pagina. Stuur je motivatiebrief en cv uiterlijk 31 juli om 23:59 op naar Eswara via profilering@jongedemocraten.nl om je aan te melden. \n  \n\n\n\n\n\nFacebook\n\n\n\n\n\n\n\n\n\nTwitter
URL:https://www.jongedemocraten.nl/evenement/jonge-democraten-in-alle-staten-trainingsdag-2/
LOCATION:Utrecht
CATEGORIES:Landelijk
ATTACH;FMTTYPE=image/jpeg:https://www.jongedemocraten.nl/wp-content/uploads/49647457191_f4d062b846_o-scaled.jpg
END:VEVENT
BEGIN:VEVENT
DTSTART;TZID=Europe/Helsinki:20250613T000000
DTEND;TZID=Europe/Helsinki:20250615T235959
DTSTAMP:20260422T151756
CREATED:20241120T131000Z
LAST-MODIFIED:20250227T174417Z
UID:44064-1749772800-1750031999@www.jongedemocraten.nl
SUMMARY:Zomercongres
DESCRIPTION:In het kort:\n\n\n\n\n\n \n\n\n\n\n\n\n\n\n\n\n\nVan 13 t/m 15 juni vindt alweer het Zomercongres plaats! Dit maal in Utrecht. \nOp dit congres vindt de 101ste Algemene Ledenvergadering (ALV) plaats en is er natuurlijk weer genoeg ruimte voor gezelligheid en uiteraard de verkiezingen voor een nieuw bestuur.  \nHeb je nog vragen? Schroom niet om te mailen naar organisatie@jongedemocraten.nl of stuur Fay een appje. \nAanmelden kan tot 22 mei 23.59! \nTicket Zomercongres 2025 \n  \n\n\n\n\n\n\n\n\n\nInstagram\n\n\n\n\n\nTwitter
URL:https://www.jongedemocraten.nl/evenement/zomercongres-2/
LOCATION:Utrecht
CATEGORIES:Landelijk
ATTACH;FMTTYPE=image/jpeg:https://www.jongedemocraten.nl/wp-content/uploads/52352514995_f055cf89b7_k-1-e1672744174991.jpg
END:VEVENT
END:VCALENDAR